Workbook

Sheet TMK
A1: TMK - 2011 MPB Update
A2: Area (ha) of MPB Attack Severity by Age Class and Density within Pine Stands (Pine Species >= 30% density - The Pine Mask)
A3: TSA Area | B3: 6410662.4
A4: Pine Mask Unharvested Area | B4: =SUM(data!D2:D200) -> 1440806.4
A6: MPB Attack as a percentage of Pine affected within the VRI Stand
A8: MPB Attack Severity
C9: Light (<11%) | E9: Moderate (11-30%) | G9: Severe (31-50%) | I9: Very Severe (>50%) | K9: All Severity | M9: No Attack
A10: Age Class | B10: Pine Density | C10: Area (ha) | D10: Percent of all Pine (Pine Mask) | E10: Area (ha) | F10: Percent of all Pine (Pine Mask) | G10: Area (ha) | H10: Percent of all Pine (Pine Mask) | I10: Area (ha) | J10: Percent of all Pine (Pine Mask) | K10: Total Area of Attack (ha) | L10: Percent of all Pine (Pine Mask) | M10: Area (ha) | N10: Percent of all Pine (Pine Mask)
A11: 21-40 years | B11: 30-70% | C11: {=SUM(IF(data!A2:A200="21-40 years",IF(data!B2:B200="30-70%",IF(data!C2:C200="Light (<11%)",data!D2:D200,0),0),0))} -> 3776.1392 | D11: =C11/($K$20+$M$20) -> 0.0027000454 | E11: {=SUM(IF(data!A2:A200="21-40 years",IF(data!B2:B200="30-70%",IF(data!C2:C200="Moderate (11-30%)",data!D2:D200,0),0),0))} -> 1528.9076 | F11: =E11/($K$20+$M$20) -> 0.0010932118 | G11: {=SUM(IF(data!A2:A200="21-40 years",IF(data!B2:B200="30-70%",IF(data!C2:C200="Severe (31-50%)",data!D2:D200,0),0),0))} -> 762.64723 | H11: =G11/($K$20+$M$20) -> 0.00054531415 | I11: {=SUM(IF(data!A2:A200="21-40 years",IF(data!B2:B200="30-70%",IF(data!C2:C200="Very Severe (>50%)",data!D2:D200,0),0),0))} -> 18577.125 | J11: =I11/($K$20+$M$20) -> 0.013283165 | K11: =SUM(C11,E11,G11,I11) -> 24644.819 | L11: =K11/($K$20+$M$20) -> 0.017621736 | M11: {=SUM(IF(data!A2:A200="21-40 years",IF(data!B2:B200="30-70%",IF(data!C2:C200="No Attack",data!D2:D200,0),0),0))} -> 8950.1051 | N11: =M11/($K$20+$M$20) -> 0.006399576
B12: >70% | C12: {=SUM(IF(data!A2:A200="21-40 years",IF(data!B2:B200=">70%",IF(data!C2:C200="Light (<11%)",data!D2:D200,0),0),0))} -> 3776.8918 | D12: =C12/($K$20+$M$20) -> 0.0027005835 | E12: {=SUM(IF(data!A2:A200="21-40 years",IF(data!B2:B200=">70%",IF(data!C2:C200="Moderate (11-30%)",data!D2:D200,0),0),0))} -> 1385.2389 | F12: =E12/($K$20+$M$20) -> 0.00099048463 | G12: {=SUM(IF(data!A2:A200="21-40 years",IF(data!B2:B200=">70%",IF(data!C2:C200="Severe (31-50%)",data!D2:D200,0),0),0))} -> 854.61914 | H12: =G12/($K$20+$M$20) -> 0.00061107664 | I12: {=SUM(IF(data!A2:A200="21-40 years",IF(data!B2:B200=">70%",IF(data!C2:C200="Very Severe (>50%)",data!D2:D200,0),0),0))} -> 23756.16 | J12: =I12/($K$20+$M$20) -> 0.016986321 | K12: =SUM(C12,E12,G12,I12) -> 29772.91 | L12: =K12/($K$20+$M$20) -> 0.021288465 | M12: {=SUM(IF(data!A2:A200="21-40 years",IF(data!B2:B200=">70%",IF(data!C2:C200="No Attack",data!D2:D200,0),0),0))} -> 10312.262 | N12: =M12/($K$20+$M$20) -> 0.0073735568
A14: 41-60 years | B14: 30-70% | C14: {=SUM(IF(data!A2:A200="41-60 years",IF(data!B2:B200="30-70%",IF(data!C2:C200="Light (<11%)",data!D2:D200,0),0),0))} -> 3346.9503 | D14: =C14/($K$20+$M$20) -> 0.0023931633 | E14: {=SUM(IF(data!A2:A200="41-60 years",IF(data!B2:B200="30-70%",IF(data!C2:C200="Moderate (11-30%)",data!D2:D200,0),0),0))} -> 3040.1713 | F14: =E14/($K$20+$M$20) -> 0.0021738077 | G14: {=SUM(IF(data!A2:A200="41-60 years",IF(data!B2:B200="30-70%",IF(data!C2:C200="Severe (31-50%)",data!D2:D200,0),0),0))} -> 2165.3458 | H14: =G14/($K$20+$M$20) -> 0.001548283 | I14: {=SUM(IF(data!A2:A200="41-60 years",IF(data!B2:B200="30-70%",IF(data!C2:C200="Very Severe (>50%)",data!D2:D200,0),0),0))} -> 24465.78 | J14: =I14/($K$20+$M$20) -> 0.017493719 | K14: =SUM(C14,E14,G14,I14) -> 33018.248 | L14: =K14/($K$20+$M$20) -> 0.023608973 | M14: {=SUM(IF(data!A2:A200="41-60 years",IF(data!B2:B200="30-70%",IF(data!C2:C200="No Attack",data!D2:D200,0),0),0))} -> 14404.096 | N14: =M14/($K$20+$M$20) -> 0.010299332
B15: >70% | C15: {=SUM(IF(data!A2:A200="41-60 years",IF(data!B2:B200=">70%",IF(data!C2:C200="Light (<11%)",data!D2:D200,0),0),0))} -> 3847.2418 | D15: =C15/($K$20+$M$20) -> 0.0027508857 | E15: {=SUM(IF(data!A2:A200="41-60 years",IF(data!B2:B200=">70%",IF(data!C2:C200="Moderate (11-30%)",data!D2:D200,0),0),0))} -> 3077.0476 | F15: =E15/($K$20+$M$20) -> 0.0022001753 | G15: {=SUM(IF(data!A2:A200="41-60 years",IF(data!B2:B200=">70%",IF(data!C2:C200="Severe (31-50%)",data!D2:D200,0),0),0))} -> 1892.7305 | H15: =G15/($K$20+$M$20) -> 0.0013533553 | I15: {=SUM(IF(data!A2:A200="41-60 years",IF(data!B2:B200=">70%",IF(data!C2:C200="Very Severe (>50%)",data!D2:D200,0),0),0))} -> 44431.587 | J15: =I15/($K$20+$M$20) -> 0.03176983 | K15: =SUM(C15,E15,G15,I15) -> 53248.607 | L15: =K15/($K$20+$M$20) -> 0.038074247 | M15: {=SUM(IF(data!A2:A200="41-60 years",IF(data!B2:B200=">70%",IF(data!C2:C200="No Attack",data!D2:D200,0),0),0))} -> 22384.609 | N15: =M15/($K$20+$M$20) -> 0.016005623
A17: >60 years | B17: 30-70% | C17: {=SUM(IF(data!A2:A200=">60 years",IF(data!B2:B200="30-70%",IF(data!C2:C200="Light (<11%)",data!D2:D200,0),0),0))} -> 13521.296 | D17: =C17/($K$20+$M$20) -> 0.0096681057 | E17: {=SUM(IF(data!A2:A200=">60 years",IF(data!B2:B200="30-70%",IF(data!C2:C200="Moderate (11-30%)",data!D2:D200,0),0),0))} -> 13277.516 | F17: =E17/($K$20+$M$20) -> 0.009493796 | G17: {=SUM(IF(data!A2:A200=">60 years",IF(data!B2:B200="30-70%",IF(data!C2:C200="Severe (31-50%)",data!D2:D200,0),0),0))} -> 14621.648 | H17: =G17/($K$20+$M$20) -> 0.010454888 | I17: {=SUM(IF(data!A2:A200=">60 years",IF(data!B2:B200="30-70%",IF(data!C2:C200="Very Severe (>50%)",data!D2:D200,0),0),0))} -> 476534.6 | J17: =I17/($K$20+$M$20) -> 0.3407356 | K17: =SUM(C17,E17,G17,I17) -> 517955.06 | L17: =K17/($K$20+$M$20) -> 0.37035239 | M17: {=SUM(IF(data!A2:A200=">60 years",IF(data!B2:B200="30-70%",IF(data!C2:C200="No Attack",data!D2:D200,0),0),0))} -> 84825.695 | N17: =M17/($K$20+$M$20) -> 0.06065275
B18: >70% | C18: {=SUM(IF(data!A2:A200=">60 years",IF(data!B2:B200=">70%",IF(data!C2:C200="Light (<11%)",data!D2:D200,0),0),0))} -> 5931.0071 | D18: =C18/($K$20+$M$20) -> 0.0042408364 | E18: {=SUM(IF(data!A2:A200=">60 years",IF(data!B2:B200=">70%",IF(data!C2:C200="Moderate (11-30%)",data!D2:D200,0),0),0))} -> 8433.5289 | F18: =E18/($K$20+$M$20) -> 0.0060302096 | G18: {=SUM(IF(data!A2:A200=">60 years",IF(data!B2:B200=">70%",IF(data!C2:C200="Severe (31-50%)",data!D2:D200,0),0),0))} -> 8433.2933 | H18: =G18/($K$20+$M$20) -> 0.0060300411 | I18: {=SUM(IF(data!A2:A200=">60 years",IF(data!B2:B200=">70%",IF(data!C2:C200="Very Severe (>50%)",data!D2:D200,0),0),0))} -> 531437.72 | J18: =I18/($K$20+$M$20) -> 0.37999287 | K18: =SUM(C18,E18,G18,I18) -> 554235.55 | L18: =K18/($K$20+$M$20) -> 0.39629395 | M18: {=SUM(IF(data!A2:A200=">60 years",IF(data!B2:B200=">70%",IF(data!C2:C200="No Attack",data!D2:D200,0),0),0))} -> 44794.608 | N18: =M18/($K$20+$M$20) -> 0.032029401
A20: Total | C20: =SUM(C11:C18) -> 34199.526 | D20: =C20/($K$20+$M$20) -> 0.02445362 | E20: =SUM(E11:E18) -> 30742.41 | F20: =E20/($K$20+$M$20) -> 0.021981685 | G20: =SUM(G11:G18) -> 28730.284 | H20: =G20/($K$20+$M$20) -> 0.020542958 | I20: =SUM(I11:I18) -> 1119203 | J20: =I20/($K$20+$M$20) -> 0.8002615 | K20: =SUM(K11:K18) -> 1212875.2 | L20: =SUM(L11:L18) -> 0.86723976 | M20: =SUM(M11:M18) -> 185671.38 | N20: =SUM(N11:N18) -> 0.13276024

Sheet data
A1: Age Class | B1: Pine Density | C1: MPB Attack Severity | D1: Sum Of area_ha
A2: <21 years | B2: >70% | C2: Light (<11%) | D2: 1182.8664
A3: <21 years | B3: >70% | C3: Light (<11%) | D3: 635.40112
A4: <21 years | B4: >70% | C4: Light (<11%) | D4: 3715.9787
A5: <21 years | B5: >70% | C5: Moderate (11-30%) | D5: 295.46208
A6: <21 years | B6: >70% | C6: Moderate (11-30%) | D6: 514.35864
A7: <21 years | B7: >70% | C7: Moderate (11-30%) | D7: 304.87033
A8: <21 years | B8: >70% | C8: No Attack | D8: 2378.6471
A9: <21 years | B9: >70% | C9: No Attack | D9: 575.20334
A10: <21 years | B10: >70% | C10: No Attack | D10: 214.76587
A11: <21 years | B11: >70% | C11: No Attack | D11: 1105.4998
A12: <21 years | B12: >70% | C12: Severe (31-50%) | D12: 145.90206
A13: <21 years | B13: >70% | C13: Severe (31-50%) | D13: 39.343369
... A126: 41-60 years | B126: 30-70% | C126: Very Severe (>50%) | D126: 20997.587

Sheet Sheet3
